BEGIN:VCALENDAR
PRODID:-//Solspace/Calendar 2.x//EN
VERSION:2.0
CALSCALE:GREGORIAN
BEGIN:VEVENT
UID:0567ed9e104c1623e82443543edf7691@solspace.com
DTSTAMP:20260421T003716
DTSTART:20250603T180000
DTEND:20250603T190000
RRULE:FREQ=WEEKLY;UNTIL=20250917T235959Z;INTERVAL=1;BYDAY=TU
SUMMARY:Poetry
END:VEVENT
END:VCALENDAR
