BEGIN:VCALENDAR
PRODID:-//Solspace/Calendar 2.x//EN
VERSION:2.0
CALSCALE:GREGORIAN
BEGIN:VEVENT
UID:5d28ad85b91d730efd7d0fe07720b559@solspace.com
DTSTAMP:20260420T020250
DTSTART:20250610T123000
DTEND:20250610T133000
SUMMARY:BookClub
END:VEVENT
BEGIN:VEVENT
UID:057fe86e0070100f06287a23d43805e4@solspace.com
DTSTAMP:20260420T020250
DTSTART:20250624T123000
DTEND:20250624T133000
SUMMARY:BookClub
END:VEVENT
BEGIN:VEVENT
UID:f7708ca0362b3a40d07f4f084fa5a018@solspace.com
DTSTAMP:20260420T020250
DTSTART:20250708T123000
DTEND:20250708T133000
SUMMARY:BookClub
END:VEVENT
BEGIN:VEVENT
UID:4c4df4564d7fb3034ec590b3271a44d9@solspace.com
DTSTAMP:20260420T020250
DTSTART:20250722T123000
DTEND:20250722T133000
SUMMARY:BookClub
END:VEVENT
BEGIN:VEVENT
UID:d9494730801e5833e077b3530c7e3675@solspace.com
DTSTAMP:20260420T020250
DTSTART:20250805T123000
DTEND:20250805T133000
SUMMARY:BookClub
END:VEVENT
BEGIN:VEVENT
UID:fca4b62bba29b6847768e5b4b5400f36@solspace.com
DTSTAMP:20260420T020250
DTSTART:20250819T123000
DTEND:20250819T133000
SUMMARY:BookClub
END:VEVENT
END:VCALENDAR
