BEGIN:VCALENDAR
PRODID:-//Solspace/Calendar 2.x//EN
VERSION:2.0
CALSCALE:GREGORIAN
BEGIN:VEVENT
UID:7a80c56e49fdf0ac321762784e2622cc@solspace.com
DTSTAMP:20260421T201123
DTSTART:20250611T190000
DTEND:20250611T203000
RRULE:FREQ=WEEKLY;UNTIL=20250626T235959Z;INTERVAL=1;BYDAY=WE
SUMMARY:BINGO!
END:VEVENT
END:VCALENDAR
