BEGIN:VCALENDAR
PRODID:-//Solspace/Calendar 2.x//EN
VERSION:2.0
CALSCALE:GREGORIAN
BEGIN:VEVENT
UID:e42a7b2f42950429bc12cea91b706511@solspace.com
DTSTAMP:20260421T041333
DTSTART:20250709T190000
DTEND:20250709T200000
RRULE:FREQ=WEEKLY;UNTIL=20250903T235959Z;INTERVAL=1;BYDAY=WE
SUMMARY:Non-Fiction Authors
END:VEVENT
END:VCALENDAR
