BEGIN:VCALENDAR
PRODID:-//Solspace/Calendar 2.x//EN
VERSION:2.0
CALSCALE:GREGORIAN
BEGIN:VEVENT
UID:44ab6455b4f01834ce8864b59fd71eff@solspace.com
DTSTAMP:20260421T004150
DTSTART:20250920T120000
DTEND:20250920T133000
SUMMARY:Teen Writers Workshop
END:VEVENT
END:VCALENDAR
