BEGIN:VCALENDAR
PRODID:-//Solspace/Calendar 2.x//EN
VERSION:2.0
CALSCALE:GREGORIAN
BEGIN:VEVENT
UID:15531fa3eaed339f7f7317e4ab60dcc3@solspace.com
DTSTAMP:20260423T023710
DTSTART:20250208T103000
DTEND:20250208T113000
SUMMARY:Winter StoryTime + StoryTime on Ice
END:VEVENT
BEGIN:VEVENT
UID:fd018f55385a3885926d7e60e15716ed@solspace.com
DTSTAMP:20260423T023710
DTSTART:20250222T103000
DTEND:20250222T113000
SUMMARY:Winter StoryTime + StoryTime on Ice
END:VEVENT
END:VCALENDAR
