BEGIN:VCALENDAR
PRODID:-//Solspace/Calendar 2.x//EN
VERSION:2.0
CALSCALE:GREGORIAN
BEGIN:VEVENT
UID:36fb311d2f1dba4ddda7bfc717effb9b@solspace.com
DTSTAMP:20260419T145901
DTSTART:20260208T183000
DTEND:20260208T220000
SUMMARY:Watch the Big Game!
END:VEVENT
END:VCALENDAR
