BEGIN:VCALENDAR
PRODID:-//Solspace/Calendar 2.x//EN
VERSION:2.0
CALSCALE:GREGORIAN
BEGIN:VEVENT
UID:5dd522a2feb7c2f2b201dc08d9531d36@solspace.com
DTSTAMP:20260419T132811
DTSTART:20250430T170000
DTEND:20250430T190000
RRULE:FREQ=WEEKLY;UNTIL=20251008T235959Z;INTERVAL=1;BYDAY=WE
SUMMARY:Settlers of Catan Social
END:VEVENT
END:VCALENDAR
