BEGIN:VCALENDAR
PRODID:-//Solspace/Calendar 2.x//EN
VERSION:2.0
CALSCALE:GREGORIAN
BEGIN:VEVENT
UID:4166e4bbbe951f8a9c4151a31baa8187@solspace.com
DTSTAMP:20260419T132708
DTSTART:20250502T170000
DTEND:20250502T190000
RRULE:FREQ=WEEKLY;UNTIL=20251010T235959Z;INTERVAL=1;BYDAY=FR
SUMMARY:BOTC / New Games Social
END:VEVENT
END:VCALENDAR
