BEGIN:VCALENDAR
PRODID:-//Solspace/Calendar 2.x//EN
VERSION:2.0
CALSCALE:GREGORIAN
BEGIN:VEVENT
UID:95d31f4d4620a9fa798de22b2e5531cd@solspace.com
DTSTAMP:20260419T130035
DTSTART:20250520T123000
DTEND:20250520T133000
SUMMARY:Books on Broadway
END:VEVENT
BEGIN:VEVENT
UID:3cd1703a744b782450fea83d26a9e17f@solspace.com
DTSTAMP:20260419T130035
DTSTART:20250527T123000
DTEND:20250527T133000
SUMMARY:Books on Broadway
END:VEVENT
BEGIN:VEVENT
UID:1fedc7f28830ce2ad5a5bf65c57c2481@solspace.com
DTSTAMP:20260419T130035
DTSTART:20250603T123000
DTEND:20250603T133000
SUMMARY:Books on Broadway
END:VEVENT
BEGIN:VEVENT
UID:fb0b2403e48f9939d6673e782899c0c3@solspace.com
DTSTAMP:20260419T130035
DTSTART:20250701T123000
DTEND:20250701T133000
SUMMARY:Books on Broadway
END:VEVENT
BEGIN:VEVENT
UID:90a725a9c1485b399ceddedcf9d6408d@solspace.com
DTSTAMP:20260419T130035
DTSTART:20250911T123000
DTEND:20250911T133000
SUMMARY:Books on Broadway
END:VEVENT
BEGIN:VEVENT
UID:d1c98e9b2bc9846a3d5a375009114165@solspace.com
DTSTAMP:20260419T130035
DTSTART:20250916T123000
DTEND:20250916T133000
SUMMARY:Books on Broadway
END:VEVENT
END:VCALENDAR
