BEGIN:VCALENDAR
PRODID:-//Solspace/Calendar 2.x//EN
VERSION:2.0
CALSCALE:GREGORIAN
BEGIN:VEVENT
UID:fedd744ca2294713bd49eb7d1dfaf1bc@solspace.com
DTSTAMP:20260423T024429
DTSTART:20240220T093000
DTEND:20240220T112000
RRULE:FREQ=WEEKLY;UNTIL=20240223T235959Z;INTERVAL=1;BYDAY=TU,WE,TH,FR
SUMMARY:Kids Week Kids Skate!
END:VEVENT
END:VCALENDAR
