BEGIN:VCALENDAR
PRODID:-//Solspace/Calendar 2.x//EN
VERSION:2.0
CALSCALE:GREGORIAN
BEGIN:VEVENT
UID:902ee00c8606e7c055d1df125f2d55a8@solspace.com
DTSTAMP:20260421T121612
DTSTART:20250710T123000
DTEND:20250710T133000
RRULE:FREQ=WEEKLY;UNTIL=20250731T235959Z;INTERVAL=1;BYDAY=TH
SUMMARY:Broadway in Bryant Park
END:VEVENT
END:VCALENDAR
