BEGIN:VCALENDAR
PRODID:-//Solspace/Calendar 2.x//EN
VERSION:2.0
CALSCALE:GREGORIAN
BEGIN:VEVENT
UID:1729332e5bcdea68f4892211ad2491ff@solspace.com
DTSTAMP:20260421T103908
DTSTART:20250710T140000
DTEND:20250710T153000
RRULE:FREQ=WEEKLY;UNTIL=20250808T235959Z;INTERVAL=1;BYDAY=TH
SUMMARY:Sing-A-Long
END:VEVENT
END:VCALENDAR
