BEGIN:VCALENDAR
PRODID:-//Solspace/Calendar 2.x//EN
VERSION:2.0
CALSCALE:GREGORIAN
BEGIN:VEVENT
UID:6abdfd04e01541c4cf56ecad5bc0979c@solspace.com
DTSTAMP:20260421T022421
DTSTART:20250908T173000
DTEND:20250908T193000
SUMMARY:Accordions Around the World Day 1
END:VEVENT
END:VCALENDAR
