BEGIN:VCALENDAR
PRODID:-//Solspace/Calendar 2.x//EN
VERSION:2.0
CALSCALE:GREGORIAN
BEGIN:VEVENT
UID:a304c793c1d595b52aaa56109659b431@solspace.com
DTSTAMP:20260423T005150
DTSTART:20250114T205000
DTEND:20250114T220000
RRULE:FREQ=WEEKLY;UNTIL=20250302T235959Z;INTERVAL=1;BYDAY=TU
SUMMARY:Trick Skate Night
END:VEVENT
END:VCALENDAR
