BEGIN:VCALENDAR
PRODID:-//Solspace/Calendar 2.x//EN
VERSION:2.0
CALSCALE:GREGORIAN
BEGIN:VEVENT
UID:731cb2e47ab3506c8d2921a4a854645b@solspace.com
DTSTAMP:20260423T010619
DTSTART:20240112T112000
DTEND:20240112T182000
SUMMARY:Bumper Cars on Ice 1
END:VEVENT
BEGIN:VEVENT
UID:3c80e3e07c506e01943f16155f04ecc3@solspace.com
DTSTAMP:20260423T010619
DTSTART:20240113T112000
DTEND:20240113T182000
SUMMARY:Bumper Cars on Ice 1
END:VEVENT
BEGIN:VEVENT
UID:c1891a5529dd409aac1d768af4969abf@solspace.com
DTSTAMP:20260423T010619
DTSTART:20240114T112000
DTEND:20240114T182000
SUMMARY:Bumper Cars on Ice 1
END:VEVENT
BEGIN:VEVENT
UID:6c45d0753d604f56343aa00dbc6fe4c9@solspace.com
DTSTAMP:20260423T010619
DTSTART:20240219T112000
DTEND:20240219T182000
SUMMARY:Bumper Cars on Ice 1
END:VEVENT
BEGIN:VEVENT
UID:3997e6fa34d9083380103cf171f25785@solspace.com
DTSTAMP:20260423T010619
DTSTART:20240220T112000
DTEND:20240220T182000
SUMMARY:Bumper Cars on Ice 1
END:VEVENT
BEGIN:VEVENT
UID:537596bf4e0cac61465d20414d118dbe@solspace.com
DTSTAMP:20260423T010619
DTSTART:20240221T112000
DTEND:20240221T182000
SUMMARY:Bumper Cars on Ice 1
END:VEVENT
BEGIN:VEVENT
UID:a8305c80934d1ac26f5c676bc8ad3e3c@solspace.com
DTSTAMP:20260423T010619
DTSTART:20240223T112000
DTEND:20240223T182000
SUMMARY:Bumper Cars on Ice 1
END:VEVENT
BEGIN:VEVENT
UID:6779c318bf468fe2b74a119db3fb32c3@solspace.com
DTSTAMP:20260423T010619
DTSTART:20240224T112000
DTEND:20240224T182000
SUMMARY:Bumper Cars on Ice 1
END:VEVENT
BEGIN:VEVENT
UID:d9a227e28c502580ad57852273761586@solspace.com
DTSTAMP:20260423T010619
DTSTART:20240225T112000
DTEND:20240225T182000
SUMMARY:Bumper Cars on Ice 1
END:VEVENT
BEGIN:VEVENT
UID:fe47505595dad86fdcf802f03a19cef9@solspace.com
DTSTAMP:20260423T010619
DTSTART:20240226T112000
DTEND:20240226T182000
SUMMARY:Bumper Cars on Ice 1
END:VEVENT
BEGIN:VEVENT
UID:ca9e1077d0a10b0b31439ca5a681e1db@solspace.com
DTSTAMP:20260423T010619
DTSTART:20240227T112000
DTEND:20240227T182000
SUMMARY:Bumper Cars on Ice 1
END:VEVENT
BEGIN:VEVENT
UID:14d8794bc65b67ddd172ea580e9e46a1@solspace.com
DTSTAMP:20260423T010619
DTSTART:20240228T112000
DTEND:20240228T182000
SUMMARY:Bumper Cars on Ice 1
END:VEVENT
BEGIN:VEVENT
UID:1b7587c965175c046ade6bfd9fbf24cd@solspace.com
DTSTAMP:20260423T010619
DTSTART:20240301T112000
DTEND:20240301T182000
SUMMARY:Bumper Cars on Ice 1
END:VEVENT
BEGIN:VEVENT
UID:b519c0e9c133052fbdfb3e31814b29dc@solspace.com
DTSTAMP:20260423T010619
DTSTART:20240302T112000
DTEND:20240302T182000
SUMMARY:Bumper Cars on Ice 1
END:VEVENT
END:VCALENDAR
