BEGIN:VCALENDAR
PRODID:-//Solspace/Calendar 2.x//EN
VERSION:2.0
CALSCALE:GREGORIAN
BEGIN:VEVENT
UID:ef97c25e3d20880f683148e56b70dd5f@solspace.com
DTSTAMP:20260422T231934
DTSTART:20240115T130000
DTEND:20240115T180000
RRULE:FREQ=WEEKLY;UNTIL=20240215T235959Z;INTERVAL=1;BYDAY=MO,TU,WE,TH
EXDATE:20240118T130000,20240123T130000,20240125T130000,20240207T130000
SUMMARY:Bumper Cars on Ice
END:VEVENT
END:VCALENDAR
