BEGIN:VCALENDAR
PRODID:-//Solspace/Calendar 2.x//EN
VERSION:2.0
CALSCALE:GREGORIAN
BEGIN:VEVENT
UID:fa655999939af909a70837883d97373a@solspace.com
DTSTAMP:20260423T024425
DTSTART:20240214T100000
DTEND:20240214T110000
SUMMARY:Found But Not Lost
END:VEVENT
END:VCALENDAR
