BEGIN:VCALENDAR
PRODID:-//Solspace/Calendar 2.x//EN
VERSION:2.0
CALSCALE:GREGORIAN
BEGIN:VEVENT
UID:b2f7f074adcff3aff9a0d7e40df7f790@solspace.com
DTSTAMP:20260423T201214
DTSTART:20230522T173000
DTEND:20230522T183000
RRULE:FREQ=DAILY;UNTIL=20230523T235959Z;INTERVAL=1
SUMMARY:America UNBOUND May
END:VEVENT
END:VCALENDAR
