BEGIN:VCALENDAR
PRODID:-//Solspace/Calendar 2.x//EN
VERSION:2.0
CALSCALE:GREGORIAN
BEGIN:VEVENT
UID:501fb39193f563efc41ab24b62bcab65@solspace.com
DTSTAMP:20260421T083404
DTSTART:20230804T190000
DTEND:20230804T203000
SUMMARY:Carnegie Hall Citywide: Ndlovu Youth Choir
END:VEVENT
END:VCALENDAR
