BEGIN:VCALENDAR
PRODID:-//Solspace/Calendar 2.x//EN
VERSION:2.0
CALSCALE:GREGORIAN
BEGIN:VEVENT
UID:b7e8a01c0e870c040e9cc14f35a47b60@solspace.com
DTSTAMP:20260419T132909
DTSTART:20250521T180000
DTEND:20250521T210000
SUMMARY:May Women's Singles Ping Pong Tournament
END:VEVENT
END:VCALENDAR
