BEGIN:VCALENDAR
PRODID:-//Solspace/Calendar 2.x//EN
VERSION:2.0
CALSCALE:GREGORIAN
BEGIN:VEVENT
UID:a46cc1f454fb8bb5f315a872854bdc91@solspace.com
DTSTAMP:20260422T004210
DTSTART:20250604T180000
DTEND:20250604T210000
SUMMARY:Mixed Doubles Ping Pong Tournament
END:VEVENT
END:VCALENDAR
