BEGIN:VCALENDAR
PRODID:-//Solspace/Calendar 2.x//EN
VERSION:2.0
CALSCALE:GREGORIAN
BEGIN:VEVENT
UID:0efe64e933e5ed8e662981aaaa4e8d59@solspace.com
DTSTAMP:20260419T132846
DTSTART:20250418T110000
DTEND:20250418T190000
SUMMARY:Maker's Market
END:VEVENT
BEGIN:VEVENT
UID:a0b8146201548d7e1d62e15e9850214a@solspace.com
DTSTAMP:20260419T132846
DTSTART:20250419T110000
DTEND:20250419T190000
SUMMARY:Maker's Market
END:VEVENT
BEGIN:VEVENT
UID:e3b59492bf479c036fe3280cfbe4d8a2@solspace.com
DTSTAMP:20260419T132846
DTSTART:20250420T110000
DTEND:20250420T190000
SUMMARY:Maker's Market
END:VEVENT
BEGIN:VEVENT
UID:50ee6cbd770583573843893129fd8502@solspace.com
DTSTAMP:20260419T132846
DTSTART:20250425T110000
DTEND:20250425T190000
SUMMARY:Maker's Market
END:VEVENT
BEGIN:VEVENT
UID:e8b98310248e329c0931313cc1040c17@solspace.com
DTSTAMP:20260419T132846
DTSTART:20250426T110000
DTEND:20250426T190000
SUMMARY:Maker's Market
END:VEVENT
BEGIN:VEVENT
UID:32be743273b2c02f66f2758533c4e826@solspace.com
DTSTAMP:20260419T132846
DTSTART:20250427T110000
DTEND:20250427T190000
SUMMARY:Maker's Market
END:VEVENT
BEGIN:VEVENT
UID:8e077fac1edcad2e24258bab11c635a3@solspace.com
DTSTAMP:20260419T132846
DTSTART:20250502T110000
DTEND:20250502T190000
SUMMARY:Maker's Market
END:VEVENT
BEGIN:VEVENT
UID:6aee53f43476ef8a55832d84f8fe8d6e@solspace.com
DTSTAMP:20260419T132846
DTSTART:20250503T110000
DTEND:20250503T190000
SUMMARY:Maker's Market
END:VEVENT
BEGIN:VEVENT
UID:4458e474e64f757f95ac3f85a28407ab@solspace.com
DTSTAMP:20260419T132846
DTSTART:20250504T110000
DTEND:20250504T190000
SUMMARY:Maker's Market
END:VEVENT
BEGIN:VEVENT
UID:78f3b00522716c9ae7e20242e63175fc@solspace.com
DTSTAMP:20260419T132846
DTSTART:20250509T110000
DTEND:20250509T190000
SUMMARY:Maker's Market
END:VEVENT
BEGIN:VEVENT
UID:0d0fba43cea4d9297cb957fdde3dc0e2@solspace.com
DTSTAMP:20260419T132846
DTSTART:20250510T110000
DTEND:20250510T190000
SUMMARY:Maker's Market
END:VEVENT
BEGIN:VEVENT
UID:9ca92d8f01f7e3e7173671fe941c15f5@solspace.com
DTSTAMP:20260419T132846
DTSTART:20250511T110000
DTEND:20250511T190000
SUMMARY:Maker's Market
END:VEVENT
BEGIN:VEVENT
UID:63f43122992cd6a953bb0bbf623fc90f@solspace.com
DTSTAMP:20260419T132846
DTSTART:20250516T110000
DTEND:20250516T190000
SUMMARY:Maker's Market
END:VEVENT
BEGIN:VEVENT
UID:3961c6d5082ae47c7f4e4b9117fb98e4@solspace.com
DTSTAMP:20260419T132846
DTSTART:20250517T110000
DTEND:20250517T190000
SUMMARY:Maker's Market
END:VEVENT
BEGIN:VEVENT
UID:c0975a63352ddbfc24eeacf45df4236a@solspace.com
DTSTAMP:20260419T132846
DTSTART:20250518T110000
DTEND:20250518T190000
SUMMARY:Maker's Market
END:VEVENT
BEGIN:VEVENT
UID:3f3fb9c0e5f7c1fadcb5bfe13910990c@solspace.com
DTSTAMP:20260419T132846
DTSTART:20250523T110000
DTEND:20250523T190000
SUMMARY:Maker's Market
END:VEVENT
BEGIN:VEVENT
UID:035f6ebe1fa0e27d3738f0f738eccdc9@solspace.com
DTSTAMP:20260419T132846
DTSTART:20250524T110000
DTEND:20250524T190000
SUMMARY:Maker's Market
END:VEVENT
BEGIN:VEVENT
UID:ac9f3a127e22f2db112bb707157031c9@solspace.com
DTSTAMP:20260419T132846
DTSTART:20250525T110000
DTEND:20250525T190000
SUMMARY:Maker's Market
END:VEVENT
BEGIN:VEVENT
UID:909e17d9d8fca838fc5c85f79b29542b@solspace.com
DTSTAMP:20260419T132846
DTSTART:20250526T110000
DTEND:20250526T190000
SUMMARY:Maker's Market
END:VEVENT
BEGIN:VEVENT
UID:a7c692e3dc62f6964e0f74084232113f@solspace.com
DTSTAMP:20260419T132846
DTSTART:20250530T110000
DTEND:20250530T190000
SUMMARY:Maker's Market
END:VEVENT
BEGIN:VEVENT
UID:e799f791e30c81e767d83de826863147@solspace.com
DTSTAMP:20260419T132846
DTSTART:20250531T110000
DTEND:20250531T190000
SUMMARY:Maker's Market
END:VEVENT
BEGIN:VEVENT
UID:670acb9412e677212734e44e1328bde2@solspace.com
DTSTAMP:20260419T132846
DTSTART:20250601T110000
DTEND:20250601T190000
SUMMARY:Maker's Market
END:VEVENT
END:VCALENDAR
