BEGIN:VCALENDAR
PRODID:-//Solspace/Calendar 2.x//EN
VERSION:2.0
CALSCALE:GREGORIAN
BEGIN:VEVENT
UID:79ca022053951b30741256d95aa51582@solspace.com
DTSTAMP:20260421T213627
DTSTART:20250618T180000
DTEND:20250618T210000
SUMMARY:Women's Singles Ping Pong Tournament
END:VEVENT
END:VCALENDAR
