BEGIN:VCALENDAR
PRODID:-//Solspace/Calendar 2.x//EN
VERSION:2.0
CALSCALE:GREGORIAN
BEGIN:VEVENT
UID:83f2fa142ec86aeb7d19a5ec6eb3c192@solspace.com
DTSTAMP:20260420T230204
DTSTART:20250709T180000
DTEND:20250709T210000
RRULE:FREQ=WEEKLY;UNTIL=20250924T235959Z;INTERVAL=1;BYDAY=WE
EXDATE:20250730T180000
SUMMARY:Ping Pong Tournaments 2025
END:VEVENT
END:VCALENDAR
