BEGIN:VCALENDAR
PRODID:-//Solspace/Calendar 2.x//EN
VERSION:2.0
CALSCALE:GREGORIAN
BEGIN:VEVENT
UID:24911d0cbbb14638874cd1ba4aa89efa@solspace.com
DTSTAMP:20260420T025545
DTSTART:20230801T200000
DTEND:20230801T210000
SUMMARY:Live After Dark: Endea Owens
END:VEVENT
END:VCALENDAR
