BEGIN:VCALENDAR
PRODID:-//Solspace/Calendar 2.x//EN
VERSION:2.0
CALSCALE:GREGORIAN
BEGIN:VEVENT
UID:e2fa07a21913827d20d9b60d609af68e@solspace.com
DTSTAMP:20260423T035030
DTSTART:20230913T183000
DTEND:20230913T210000
SUMMARY:September Women's Double's Ping Pong Tournament
END:VEVENT
END:VCALENDAR
