BEGIN:VCALENDAR
PRODID:-//Solspace/Calendar 2.x//EN
VERSION:2.0
CALSCALE:GREGORIAN
BEGIN:VEVENT
UID:ae9e061bb41e88e885288c8d5d835a99@solspace.com
DTSTAMP:20260420T153403
DTSTART:20250625T180000
DTEND:20250625T210000
SUMMARY:Coordinated Colors Doubles Ping Pong Tournament
END:VEVENT
END:VCALENDAR
