BEGIN:VCALENDAR
PRODID:-//Solspace/Calendar 2.x//EN
VERSION:2.0
CALSCALE:GREGORIAN
BEGIN:VEVENT
UID:1150a10c437e24b75695a7bbf7a613df@solspace.com
DTSTAMP:20260423T023736
DTSTART:20230921T183000
DTEND:20230921T200000
SUMMARY:Asian Cultural Symphony of the U.S.A.
END:VEVENT
END:VCALENDAR
