BEGIN:VCALENDAR
PRODID:-//Solspace/Calendar 2.x//EN
VERSION:2.0
CALSCALE:GREGORIAN
BEGIN:VEVENT
UID:c4efc99df62dc2d745511a621b4decf5@solspace.com
DTSTAMP:20260423T191937
DTSTART:20251106T080000
DTEND:20251106T235900
RRULE:FREQ=DAILY;UNTIL=20260104T235959Z;INTERVAL=1
EXDATE:20251202T080000,20251231T080000
SUMMARY:Ice Skating | 8am-midnight
END:VEVENT
END:VCALENDAR
