BEGIN:VCALENDAR
PRODID:-//Solspace/Calendar 2.x//EN
VERSION:2.0
CALSCALE:GREGORIAN
BEGIN:VEVENT
UID:e8d6e885db71e7852f51adf46f18c6ae@solspace.com
DTSTAMP:20260423T024444
DTSTART:20240215T203000
DTEND:20240215T210000
SUMMARY:Le Patin Libre: Threshold
END:VEVENT
BEGIN:VEVENT
UID:ad80c2957e28dffe85151a7f74d80834@solspace.com
DTSTAMP:20260423T024444
DTSTART:20240220T203000
DTEND:20240220T210000
SUMMARY:Le Patin Libre: Threshold
END:VEVENT
BEGIN:VEVENT
UID:09dbc43f0ec7d40f8ae8b71af15874c2@solspace.com
DTSTAMP:20260423T024444
DTSTART:20240221T203000
DTEND:20240221T210000
SUMMARY:Le Patin Libre: Threshold
END:VEVENT
END:VCALENDAR
