BEGIN:VCALENDAR
PRODID:-//Solspace/Calendar 2.x//EN
VERSION:2.0
CALSCALE:GREGORIAN
BEGIN:VEVENT
UID:d957a509a78037f0310cf68829cc30df@solspace.com
DTSTAMP:20260423T010614
DTSTART:20240206T190000
DTEND:20240206T200000
SUMMARY:Live After Dark: Willie Martinez Quartet
END:VEVENT
END:VCALENDAR
