BEGIN:VCALENDAR
PRODID:-//Solspace/Calendar 2.x//EN
VERSION:2.0
CALSCALE:GREGORIAN
BEGIN:VEVENT
UID:dde6b69fe504623aa88cbef13cc5037f@solspace.com
DTSTAMP:20260423T025452
DTSTART:20240109T190000
DTEND:20240109T200000
SUMMARY:Live After Dark: Olivia Ellen LLoyd
END:VEVENT
END:VCALENDAR
