BEGIN:VCALENDAR
PRODID:-//Solspace/Calendar 2.x//EN
VERSION:2.0
CALSCALE:GREGORIAN
BEGIN:VEVENT
UID:851e823403c3f50a46ef5be38772a25c@solspace.com
DTSTAMP:20260422T232051
DTSTART:20240123T190000
DTEND:20240123T200000
SUMMARY:Live After Dark: Nour Harkati
END:VEVENT
END:VCALENDAR
