BEGIN:VCALENDAR
PRODID:-//Solspace/Calendar 2.x//EN
VERSION:2.0
CALSCALE:GREGORIAN
BEGIN:VEVENT
UID:2b87f1cfef93b1d29ce6972810973085@solspace.com
DTSTAMP:20260422T231953
DTSTART:20240117T200000
DTEND:20240117T210000
RRULE:FREQ=WEEKLY;UNTIL=20240131T235959Z;INTERVAL=1;BYDAY=WE
SUMMARY:Laughs at The Lodge
END:VEVENT
END:VCALENDAR
