BEGIN:VCALENDAR
PRODID:-//Solspace/Calendar 2.x//EN
VERSION:2.0
CALSCALE:GREGORIAN
BEGIN:VEVENT
UID:ee493ad377afd3d5a4114d8237998af6@solspace.com
DTSTAMP:20260422T231949
DTSTART:20240118T112000
DTEND:20240118T162000
SUMMARY:Bumper Cars on Ice 2
END:VEVENT
BEGIN:VEVENT
UID:6a9d415bb4e26956f3a7f31ac0126e67@solspace.com
DTSTAMP:20260422T231949
DTSTART:20240119T112000
DTEND:20240119T162000
SUMMARY:Bumper Cars on Ice 2
END:VEVENT
BEGIN:VEVENT
UID:3d14a193cb8c9fb4e81a280a79e3899b@solspace.com
DTSTAMP:20260422T231949
DTSTART:20240120T112000
DTEND:20240120T162000
SUMMARY:Bumper Cars on Ice 2
END:VEVENT
BEGIN:VEVENT
UID:3068aa395ba518a00f4e0f13b6404ead@solspace.com
DTSTAMP:20260422T231949
DTSTART:20240121T112000
DTEND:20240121T162000
SUMMARY:Bumper Cars on Ice 2
END:VEVENT
BEGIN:VEVENT
UID:965609c5c308c897c85a433f36c8fba3@solspace.com
DTSTAMP:20260422T231949
DTSTART:20240123T112000
DTEND:20240123T162000
SUMMARY:Bumper Cars on Ice 2
END:VEVENT
BEGIN:VEVENT
UID:6af9c7375c3dbf2a07625a644fe6a2fe@solspace.com
DTSTAMP:20260422T231949
DTSTART:20240125T112000
DTEND:20240125T162000
SUMMARY:Bumper Cars on Ice 2
END:VEVENT
BEGIN:VEVENT
UID:88bfd440ec7b6c788bba66db09429c18@solspace.com
DTSTAMP:20260422T231949
DTSTART:20240126T112000
DTEND:20240126T162000
SUMMARY:Bumper Cars on Ice 2
END:VEVENT
BEGIN:VEVENT
UID:94685b18c3cd3fd55b2764d0a3184612@solspace.com
DTSTAMP:20260422T231949
DTSTART:20240127T112000
DTEND:20240127T162000
SUMMARY:Bumper Cars on Ice 2
END:VEVENT
BEGIN:VEVENT
UID:2066d1640f34e2b7eba98a69ac40784b@solspace.com
DTSTAMP:20260422T231949
DTSTART:20240128T112000
DTEND:20240128T162000
SUMMARY:Bumper Cars on Ice 2
END:VEVENT
BEGIN:VEVENT
UID:ff09ea54f454474d964919ecf9555c1d@solspace.com
DTSTAMP:20260422T231949
DTSTART:20240202T112000
DTEND:20240202T162000
SUMMARY:Bumper Cars on Ice 2
END:VEVENT
BEGIN:VEVENT
UID:895478e1a75474a8fcc6b446c6ae43ea@solspace.com
DTSTAMP:20260422T231949
DTSTART:20240203T112000
DTEND:20240203T162000
SUMMARY:Bumper Cars on Ice 2
END:VEVENT
BEGIN:VEVENT
UID:aa7ccd4b862ac0367838cb9cf3fd0b13@solspace.com
DTSTAMP:20260422T231949
DTSTART:20240204T112000
DTEND:20240204T162000
SUMMARY:Bumper Cars on Ice 2
END:VEVENT
BEGIN:VEVENT
UID:bfcca800f2c0c20d5ccde877dff79fcb@solspace.com
DTSTAMP:20260422T231949
DTSTART:20240207T112000
DTEND:20240207T162000
SUMMARY:Bumper Cars on Ice 2
END:VEVENT
BEGIN:VEVENT
UID:61adb0ba73d8209691e05c7aadf3d7dc@solspace.com
DTSTAMP:20260422T231949
DTSTART:20240209T112000
DTEND:20240209T162000
SUMMARY:Bumper Cars on Ice 2
END:VEVENT
BEGIN:VEVENT
UID:12d2a0b0cf3bf98f55bc6d77939dc932@solspace.com
DTSTAMP:20260422T231949
DTSTART:20240210T112000
DTEND:20240210T162000
SUMMARY:Bumper Cars on Ice 2
END:VEVENT
BEGIN:VEVENT
UID:9535d76a6610a9621d1dcec21c94cc26@solspace.com
DTSTAMP:20260422T231949
DTSTART:20240211T112000
DTEND:20240211T162000
SUMMARY:Bumper Cars on Ice 2
END:VEVENT
BEGIN:VEVENT
UID:b7a572fcc47e99bb108ba403793158c3@solspace.com
DTSTAMP:20260422T231949
DTSTART:20240216T112000
DTEND:20240216T162000
SUMMARY:Bumper Cars on Ice 2
END:VEVENT
BEGIN:VEVENT
UID:8b69177df61180fa100a4470ad84949e@solspace.com
DTSTAMP:20260422T231949
DTSTART:20240217T112000
DTEND:20240217T162000
SUMMARY:Bumper Cars on Ice 2
END:VEVENT
BEGIN:VEVENT
UID:8df036b124fd45ac96c9dd370231fe47@solspace.com
DTSTAMP:20260422T231949
DTSTART:20240218T112000
DTEND:20240218T162000
SUMMARY:Bumper Cars on Ice 2
END:VEVENT
BEGIN:VEVENT
UID:6fa61209de1744b23436f9831d9c28ee@solspace.com
DTSTAMP:20260422T231949
DTSTART:20240222T112000
DTEND:20240222T162000
SUMMARY:Bumper Cars on Ice 2
END:VEVENT
BEGIN:VEVENT
UID:d9c9136c7f6715b53b2844478603813f@solspace.com
DTSTAMP:20260422T231949
DTSTART:20240229T112000
DTEND:20240229T162000
SUMMARY:Bumper Cars on Ice 2
END:VEVENT
END:VCALENDAR
