BEGIN:VCALENDAR
PRODID:-//Solspace/Calendar 2.x//EN
VERSION:2.0
CALSCALE:GREGORIAN
BEGIN:VEVENT
UID:edcfdc9179fac7ef300b03758d9c4f33@solspace.com
DTSTAMP:20260422T231949
DTSTART:20240119T140000
DTEND:20240119T150000
RRULE:FREQ=WEEKLY;UNTIL=20240301T235959Z;INTERVAL=1;BYDAY=FR
SUMMARY:Indoor Ribbon Dancing
END:VEVENT
END:VCALENDAR
