BEGIN:VCALENDAR
PRODID:-//Solspace/Calendar 2.x//EN
VERSION:2.0
CALSCALE:GREGORIAN
BEGIN:VEVENT
UID:ba3503b2ac0b1fca3a7d0186a62af637@solspace.com
DTSTAMP:20260421T173106
DTSTART:20260429T180000
DTEND:20260429T203000
RRULE:FREQ=WEEKLY;UNTIL=20260513T235959Z;INTERVAL=1;BYDAY=WE,TH
SUMMARY:Dance Party
END:VEVENT
END:VCALENDAR
