BEGIN:VCALENDAR
PRODID:-//Solspace/Calendar 2.x//EN
VERSION:2.0
CALSCALE:GREGORIAN
BEGIN:VEVENT
UID:1b9294e7ae591c26b91e273143409fc0@solspace.com
DTSTAMP:20260424T111310
DTSTART:20240607T190000
DTEND:20240607T210000
SUMMARY:Contemporary Dance: David Dorfman\, Soles of Duende\, and Jo
 ffrey Concert Group
END:VEVENT
END:VCALENDAR
