BEGIN:VCALENDAR
PRODID:-//Solspace/Calendar 2.x//EN
VERSION:2.0
CALSCALE:GREGORIAN
BEGIN:VEVENT
UID:c267c47663b10e2ae041c3bd4d3a2106@solspace.com
DTSTAMP:20260424T032205
DTSTART:20240614T190000
DTEND:20240614T210000
SUMMARY:Contemporary Dance: Ronald K. Brown/EVIDENCE\, Robin Dunn's 
 'SHOUT'\, and Kevin Wynn Tribute
END:VEVENT
END:VCALENDAR
