BEGIN:VCALENDAR
PRODID:-//Solspace/Calendar 2.x//EN
VERSION:2.0
CALSCALE:GREGORIAN
BEGIN:VEVENT
UID:feecf94842b8cd69a5756890ec34a9c1@solspace.com
DTSTAMP:20260423T234226
DTSTART:20240810T170000
DTEND:20240810T180000
SUMMARY:New Victory Theater: Ephrat Asherie + Barkin/Selissen Projec
 t
END:VEVENT
END:VCALENDAR
