BEGIN:VCALENDAR
PRODID:-//Solspace/Calendar 2.x//EN
VERSION:2.0
CALSCALE:GREGORIAN
BEGIN:VEVENT
UID:62f12cc36a18ecb7658141ba97fa1ca9@solspace.com
DTSTAMP:20260422T025412
DTSTART:20240817T190000
DTEND:20240817T214500
SUMMARY:Jalopy Theatre: Cristina Vane\, Slavic Soul Party!\, and Gua
 chinangos
END:VEVENT
END:VCALENDAR
