BEGIN:VCALENDAR
PRODID:-//Solspace/Calendar 2.x//EN
VERSION:2.0
CALSCALE:GREGORIAN
BEGIN:VEVENT
UID:c94a500b9bbfab91bcfc08cca63303d2@solspace.com
DTSTAMP:20260421T231134
DTSTART:20250603T183000
DTEND:20250603T200000
RRULE:FREQ=DAILY;UNTIL=20250608T235959Z;INTERVAL=1
EXDATE:20250607T183000
SUMMARY:Mobile Unit: Much Ado About Nothing
END:VEVENT
END:VCALENDAR
