BEGIN:VCALENDAR
PRODID:-//Solspace/Calendar 2.x//EN
VERSION:2.0
CALSCALE:GREGORIAN
BEGIN:VEVENT
UID:f37aae3040ef46e767f245dccbbd74ec@solspace.com
DTSTAMP:20260421T231135
DTSTART:20250607T130000
DTEND:20250607T143000
RRULE:FREQ=DAILY;UNTIL=20250608T235959Z;INTERVAL=1
SUMMARY:Mobile Unit: Much Ado About Nothing Matinee
END:VEVENT
END:VCALENDAR
