BEGIN:VCALENDAR
PRODID:-//Solspace/Calendar 2.x//EN
VERSION:2.0
CALSCALE:GREGORIAN
BEGIN:VEVENT
UID:9322e779fbfcc2d5c8cb748cf0019034@solspace.com
DTSTAMP:20260419T132729
DTSTART:20250508T100000
DTEND:20250508T120000
RRULE:FREQ=WEEKLY;UNTIL=20250925T235959Z;INTERVAL=1;BYDAY=TH
EXDATE:20250710T100000,20250828T100000
SUMMARY:Percussion Playground
END:VEVENT
END:VCALENDAR
