BEGIN:VCALENDAR
PRODID:-//Solspace/Calendar 2.x//EN
VERSION:2.0
CALSCALE:GREGORIAN
BEGIN:VEVENT
UID:6044507d6df5c44efe1325c0f6fa3bad@solspace.com
DTSTAMP:20260421T103908
DTSTART:20251101T100000
DTEND:20251101T200000
RRULE:FREQ=DAILY;UNTIL=20270103T235959Z;INTERVAL=1
SUMMARY:Bryant Park Shop
END:VEVENT
END:VCALENDAR
