BEGIN:VCALENDAR
PRODID:-//Solspace/Calendar 2.x//EN
VERSION:2.0
CALSCALE:GREGORIAN
BEGIN:VEVENT
UID:3dd41f89786e55df12038eed405a24dd@solspace.com
DTSTAMP:20260421T004444
DTSTART:20250915T173000
DTEND:20250915T193000
SUMMARY:Accordions Around the World Day 2
END:VEVENT
END:VCALENDAR
