BEGIN:VCALENDAR
PRODID:-//Solspace/Calendar 2.x//EN
VERSION:2.0
CALSCALE:GREGORIAN
BEGIN:VEVENT
UID:4db9b5d722e1a736f776ce4199f68b2d@solspace.com
DTSTAMP:20260420T025949
DTSTART:20250922T173000
DTEND:20250922T193000
SUMMARY:Accordions Around the World Day 3
END:VEVENT
END:VCALENDAR
