BEGIN:VCALENDAR
PRODID:-//Solspace/Calendar 2.x//EN
VERSION:2.0
CALSCALE:GREGORIAN
BEGIN:VEVENT
UID:24ef268ecd0ef7a244d3fa532bf566a3@solspace.com
DTSTAMP:20260423T005154
DTSTART:20250104T140000
DTEND:20250104T190000
RRULE:FREQ=WEEKLY;UNTIL=20250301T235959Z;INTERVAL=1;BYDAY=SA
SUMMARY:Winter Board Game Social
END:VEVENT
END:VCALENDAR
