BEGIN:VCALENDAR
PRODID:-//Solspace/Calendar 2.x//EN
VERSION:2.0
CALSCALE:GREGORIAN
BEGIN:VEVENT
UID:a075f5e5c421fb5cb79d45a4689fd655@solspace.com
DTSTAMP:20260423T005150
DTSTART:20250103T173000
DTEND:20250103T200000
RRULE:FREQ=WEEKLY;UNTIL=20250301T235959Z;INTERVAL=1;BYDAY=FR
SUMMARY:Weekly Board Game Social in Overlook
END:VEVENT
END:VCALENDAR
